BEGIN:VCALENDAR
VERSION:2.0
PRODID:-//hacksw/handcal//NONSGML v1.0//EN
CALSCALE:GREGORIAN
BEGIN:VEVENT
DTEND:20070804T160000Z
UID:69e855e9a6eb4
DTSTAMP:20260422T060025Z
LOCATION:8280 Fürstenfeld
DESCRIPTION:
URL;VALUE=URI:
SUMMARY:Fürstenfeld Läuft
DTSTART:20070803T230000Z
END:VEVENT
END:VCALENDAR
An internal server error occurred.