BEGIN:VCALENDAR
VERSION:2.0
PRODID:-//hacksw/handcal//NONSGML v1.0//EN
CALSCALE:GREGORIAN
BEGIN:VEVENT
DTEND:20070804T150000Z
UID:69e855e9d2ecc
DTSTAMP:20260422T060025Z
LOCATION:0 St.Peter am Kammersberg
DESCRIPTION:
URL;VALUE=URI:
SUMMARY:Holzstraßenlauf
DTSTART:20070803T230000Z
END:VEVENT
END:VCALENDAR
An internal server error occurred.