BEGIN:VCALENDAR
VERSION:2.0
PRODID:-//hacksw/handcal//NONSGML v1.0//EN
CALSCALE:GREGORIAN
BEGIN:VEVENT
DTEND:20070526T140000Z
UID:69e9adfa7b47c
DTSTAMP:20260423T062826Z
LOCATION:3270 Scheibbs
DESCRIPTION:
URL;VALUE=URI:
SUMMARY:18. Raika Pfingstlauf Neustift
DTSTART:20070525T230000Z
END:VEVENT
END:VCALENDAR
An internal server error occurred.