BEGIN:VCALENDAR
VERSION:2.0
PRODID:-//hacksw/handcal//NONSGML v1.0//EN
CALSCALE:GREGORIAN
BEGIN:VEVENT
DTEND:20070520T103000Z
UID:69e5e238858ae
DTSTAMP:20260420T092216Z
LOCATION:6973 Höchst
DESCRIPTION:
URL;VALUE=URI:
SUMMARY:Geländelauf Höchst
DTSTART:20070519T230000Z
END:VEVENT
END:VCALENDAR
An internal server error occurred.