BEGIN:VCALENDAR
VERSION:2.0
PRODID:-//hacksw/handcal//NONSGML v1.0//EN
CALSCALE:GREGORIAN
BEGIN:VEVENT
DTEND:20070520T083000Z
UID:69e5e221b8098
DTSTAMP:20260420T092153Z
LOCATION:3532 Rastenfeld
DESCRIPTION:Kinderbewerbe
URL;VALUE=URI:
SUMMARY:Ottensteiner Seenlauf
DTSTART:20070519T230000Z
END:VEVENT
END:VCALENDAR
An internal server error occurred.