BEGIN:VCALENDAR
VERSION:2.0
PRODID:-//hacksw/handcal//NONSGML v1.0//EN
CALSCALE:GREGORIAN
BEGIN:VEVENT
DTEND:20070519T050000Z
UID:69e566f176f29
DTSTAMP:20260420T003617Z
LOCATION:1050 Wien - Prater
DESCRIPTION:
URL;VALUE=URI:
SUMMARY:Self Transcendence 100km-Lauf
DTSTART:20070518T230000Z
END:VEVENT
END:VCALENDAR
An internal server error occurred.