BEGIN:VCALENDAR
VERSION:2.0
PRODID:-//hacksw/handcal//NONSGML v1.0//EN
CALSCALE:GREGORIAN
BEGIN:VEVENT
DTEND:20070519T140000Z
UID:69e566f14a6dd
DTSTAMP:20260420T003617Z
LOCATION:8665 Langenwang
DESCRIPTION:herrlicher Landschaftslauf
URL;VALUE=URI:
SUMMARY:5. Langenwanger Erlebnislauf
DTSTART:20070518T230000Z
END:VEVENT
END:VCALENDAR
An internal server error occurred.