BEGIN:VCALENDAR
VERSION:2.0
PRODID:-//hacksw/handcal//NONSGML v1.0//EN
CALSCALE:GREGORIAN
BEGIN:VEVENT
DTEND:20070519T140000Z
UID:69e5e231ef3f0
DTSTAMP:20260420T092209Z
LOCATION:5322 Hof bei Salzburg
DESCRIPTION:
URL;VALUE=URI:
SUMMARY:10. Hofer Dorflauf
DTSTART:20070518T230000Z
END:VEVENT
END:VCALENDAR
An internal server error occurred.