BEGIN:VCALENDAR
VERSION:2.0
PRODID:-//hacksw/handcal//NONSGML v1.0//EN
CALSCALE:GREGORIAN
BEGIN:VEVENT
DTEND:20070730T090000Z
UID:69e9953bc83d9
DTSTAMP:20260423T044251Z
LOCATION:8674 Rettenegg
DESCRIPTION:
URL;VALUE=URI:
SUMMARY:10. Int. Kraftspende Stuhlecklauf
DTSTART:20070729T230000Z
END:VEVENT
END:VCALENDAR
An internal server error occurred.