BEGIN:VCALENDAR
VERSION:2.0
PRODID:-//hacksw/handcal//NONSGML v1.0//EN
CALSCALE:GREGORIAN
BEGIN:VEVENT
DTEND:20070519T120000Z
UID:69e5e23858d17
DTSTAMP:20260420T092216Z
LOCATION:8750 Judenburg
DESCRIPTION:
URL;VALUE=URI:
SUMMARY:24. Judenburger bauMax Stadtlauf
DTSTART:20070518T230000Z
END:VEVENT
END:VCALENDAR
An internal server error occurred.