BEGIN:VCALENDAR
VERSION:2.0
PRODID:-//hacksw/handcal//NONSGML v1.0//EN
CALSCALE:GREGORIAN
BEGIN:VEVENT
DTEND:20070729T083000Z
UID:69ed416c6288f
DTSTAMP:20260425T233420Z
LOCATION:9640 Kötschach-Mauthen
DESCRIPTION:
URL;VALUE=URI:
SUMMARY:12. Int. Obergailtaler Berglauf
DTSTART:20070728T230000Z
END:VEVENT
END:VCALENDAR
An internal server error occurred.