BEGIN:VCALENDAR
VERSION:2.0
PRODID:-//hacksw/handcal//NONSGML v1.0//EN
CALSCALE:GREGORIAN
BEGIN:VEVENT
DTEND:20070729T170000Z
UID:69e8635c8e68a
DTSTAMP:20260422T065748Z
LOCATION:5151 Nußdorf a.Hbg.
DESCRIPTION:
URL;VALUE=URI:
SUMMARY:16. Int. Haunsberglauf
DTSTART:20070728T230000Z
END:VEVENT
END:VCALENDAR
An internal server error occurred.