BEGIN:VCALENDAR
VERSION:2.0
PRODID:-//hacksw/handcal//NONSGML v1.0//EN
CALSCALE:GREGORIAN
BEGIN:VEVENT
DTEND:20070517T090000Z
UID:69e5067035d46
DTSTAMP:20260419T174432Z
LOCATION:4701 Bad Schallerbach
DESCRIPTION:
URL;VALUE=URI:
SUMMARY:19. Trattnachuferlauf
DTSTART:20070516T230000Z
END:VEVENT
END:VCALENDAR
An internal server error occurred.