BEGIN:VCALENDAR
VERSION:2.0
PRODID:-//hacksw/handcal//NONSGML v1.0//EN
CALSCALE:GREGORIAN
BEGIN:VEVENT
DTEND:20070729T090000Z
UID:69e86359e7758
DTSTAMP:20260422T065745Z
LOCATION:4193 Reichenthal
DESCRIPTION:Crosslauf
URL;VALUE=URI:
SUMMARY:9. Zehn-Mühlenlauf 
DTSTART:20070728T230000Z
END:VEVENT
END:VCALENDAR
An internal server error occurred.