BEGIN:VCALENDAR
VERSION:2.0
PRODID:-//hacksw/handcal//NONSGML v1.0//EN
CALSCALE:GREGORIAN
BEGIN:VEVENT
DTEND:20070517T130000Z
UID:69e5066ca694c
DTSTAMP:20260419T174428Z
LOCATION:6382 Kirchdorf
DESCRIPTION:Die Laufveranstaltung wird von Erste Bank oder Sparkasse gesponsert 
URL;VALUE=URI:
SUMMARY:Stadtlauf Kirchdorf
DTSTART:20070516T230000Z
END:VEVENT
END:VCALENDAR
An internal server error occurred.