BEGIN:VCALENDAR
VERSION:2.0
PRODID:-//hacksw/handcal//NONSGML v1.0//EN
CALSCALE:GREGORIAN
BEGIN:VEVENT
DTEND:20070515T110000Z
UID:69e5e22333ca3
DTSTAMP:20260420T092155Z
LOCATION:6900 Bregenz
DESCRIPTION:
URL;VALUE=URI:
SUMMARY:Nestlé Austria Schullauf Bregenz
DTSTART:20070514T230000Z
END:VEVENT
END:VCALENDAR
An internal server error occurred.