BEGIN:VCALENDAR
VERSION:2.0
PRODID:-//hacksw/handcal//NONSGML v1.0//EN
CALSCALE:GREGORIAN
BEGIN:VEVENT
DTEND:20070512T120000Z
UID:69e5066e491ff
DTSTAMP:20260419T174430Z
LOCATION:8184 Anger
DESCRIPTION:
URL;VALUE=URI:
SUMMARY:17. Angerer Volkslauf Anger
DTSTART:20070511T230000Z
END:VEVENT
END:VCALENDAR
An internal server error occurred.