BEGIN:VCALENDAR
VERSION:2.0
PRODID:-//hacksw/handcal//NONSGML v1.0//EN
CALSCALE:GREGORIAN
BEGIN:VEVENT
DTEND:20070512T140000Z
UID:69e50670984e7
DTSTAMP:20260419T174432Z
LOCATION:5301 Eugendorf
DESCRIPTION:Start und Ziel : Schmalzkoch (Löschteich) beim Kindergarten 
URL;VALUE=URI:
SUMMARY:3. Eugendorfer Schmalzkochlauf
DTSTART:20070511T230000Z
END:VEVENT
END:VCALENDAR
An internal server error occurred.