BEGIN:VCALENDAR
VERSION:2.0
PRODID:-//hacksw/handcal//NONSGML v1.0//EN
CALSCALE:GREGORIAN
BEGIN:VEVENT
DTEND:20070728T140000Z
UID:69e9adc5c636f
DTSTAMP:20260423T062733Z
LOCATION:8920 Steiermark
DESCRIPTION:
URL;VALUE=URI:
SUMMARY:20.Straßenlauf um die Gesäusetrophäe
DTSTART:20070727T230000Z
END:VEVENT
END:VCALENDAR
An internal server error occurred.