BEGIN:VCALENDAR
VERSION:2.0
PRODID:-//hacksw/handcal//NONSGML v1.0//EN
CALSCALE:GREGORIAN
BEGIN:VEVENT
DTEND:20070512T090000Z
UID:69e510502a5f4
DTSTAMP:20260419T182640Z
LOCATION:4061 Pasching
DESCRIPTION:
URL;VALUE=URI:
SUMMARY:Intersport Eybl Plus City-Lauf Pasching
DTSTART:20070511T230000Z
END:VEVENT
END:VCALENDAR
An internal server error occurred.