BEGIN:VCALENDAR
VERSION:2.0
PRODID:-//hacksw/handcal//NONSGML v1.0//EN
CALSCALE:GREGORIAN
BEGIN:VEVENT
DTEND:20070512T130000Z
UID:69e827d0765cb
DTSTAMP:20260422T024344Z
LOCATION:4800 Attnang-Puchheim
DESCRIPTION:
URL;VALUE=URI:
SUMMARY:3-Städte Grand Prix\, Attnang-Puchheim
DTSTART:20070511T230000Z
END:VEVENT
END:VCALENDAR
An internal server error occurred.