BEGIN:VCALENDAR
VERSION:2.0
PRODID:-//hacksw/handcal//NONSGML v1.0//EN
CALSCALE:GREGORIAN
BEGIN:VEVENT
DTEND:20070509T110000Z
UID:69e9892d58fd8
DTSTAMP:20260423T035125Z
LOCATION:5020 Salzburg
DESCRIPTION:
URL;VALUE=URI:
SUMMARY:Nestlé Austria Schullauf Salzburg
DTSTART:20070508T230000Z
END:VEVENT
END:VCALENDAR
An internal server error occurred.