BEGIN:VCALENDAR
VERSION:2.0
PRODID:-//hacksw/handcal//NONSGML v1.0//EN
CALSCALE:GREGORIAN
BEGIN:VEVENT
DTEND:20070509T180000Z
UID:69e4d36e8771f
DTSTAMP:20260419T140654Z
LOCATION:1020 Wien
DESCRIPTION:
URL;VALUE=URI:
SUMMARY:Frauen Fun Run
DTSTART:20070508T230000Z
END:VEVENT
END:VCALENDAR
An internal server error occurred.