BEGIN:VCALENDAR
VERSION:2.0
PRODID:-//hacksw/handcal//NONSGML v1.0//EN
CALSCALE:GREGORIAN
BEGIN:VEVENT
DTEND:20070506T090000Z
UID:69e4f69707b63
DTSTAMP:20260419T163655Z
LOCATION:9761 Greifenburg
DESCRIPTION:
URL;VALUE=URI:
SUMMARY:Tolzer-Berglauf\, Greifenburg
DTSTART:20070505T230000Z
END:VEVENT
END:VCALENDAR
An internal server error occurred.