BEGIN:VCALENDAR
VERSION:2.0
PRODID:-//hacksw/handcal//NONSGML v1.0//EN
CALSCALE:GREGORIAN
BEGIN:VEVENT
DTEND:20070721T130000Z
UID:69e956977d0b0
DTSTAMP:20260423T001535Z
LOCATION:8942 Woerschach
DESCRIPTION:Einzelläufer\, 4er-Staffel oder Megastaffel mit bis zu 24 Starter
URL;VALUE=URI:
SUMMARY:24-Stunden Benefizlauf 2007
DTSTART:20070720T230000Z
END:VEVENT
END:VCALENDAR
An internal server error occurred.