BEGIN:VCALENDAR
VERSION:2.0
PRODID:-//hacksw/handcal//NONSGML v1.0//EN
CALSCALE:GREGORIAN
BEGIN:VEVENT
DTEND:20070714T170000Z
UID:69e859dd3eeea
DTSTAMP:20260422T061717Z
LOCATION:7031 Krensdorf
DESCRIPTION:
URL;VALUE=URI:
SUMMARY:4. Krensdorfer Hotterlauf
DTSTART:20070713T230000Z
END:VEVENT
END:VCALENDAR
An internal server error occurred.