BEGIN:VCALENDAR
VERSION:2.0
PRODID:-//hacksw/handcal//NONSGML v1.0//EN
CALSCALE:GREGORIAN
BEGIN:VEVENT
DTEND:20070506T090000Z
UID:69e9b91bcc1f0
DTSTAMP:20260423T071555Z
LOCATION:7000 Eisenstadt
DESCRIPTION:
URL;VALUE=URI:
SUMMARY:Energy Run powered by Bewag und Begas
DTSTART:20070505T230000Z
END:VEVENT
END:VCALENDAR
An internal server error occurred.