BEGIN:VCALENDAR
VERSION:2.0
PRODID:-//hacksw/handcal//NONSGML v1.0//EN
CALSCALE:GREGORIAN
BEGIN:VEVENT
DTEND:20070505T160000Z
UID:69e5bb248d7ad
DTSTAMP:20260420T063532Z
LOCATION:2320 Schwechat
DESCRIPTION:
URL;VALUE=URI:
SUMMARY:2. Schwechater Pärchenlauf\, Schwechat
DTSTART:20070504T230000Z
END:VEVENT
END:VCALENDAR
An internal server error occurred.