BEGIN:VCALENDAR
VERSION:2.0
PRODID:-//hacksw/handcal//NONSGML v1.0//EN
CALSCALE:GREGORIAN
BEGIN:VEVENT
DTEND:20070708T090000Z
UID:69e859e559b5c
DTSTAMP:20260422T061725Z
LOCATION:0 St.Johann im Pongau
DESCRIPTION:
URL;VALUE=URI:
SUMMARY:9. Int. Gernkogel-Berglauf
DTSTART:20070707T230000Z
END:VEVENT
END:VCALENDAR
An internal server error occurred.