BEGIN:VCALENDAR
VERSION:2.0
PRODID:-//hacksw/handcal//NONSGML v1.0//EN
CALSCALE:GREGORIAN
BEGIN:VEVENT
DTEND:20070502T230000Z
UID:69e5bb22cffa8
DTSTAMP:20260420T063530Z
LOCATION:8020 Graz
DESCRIPTION:
URL;VALUE=URI:
SUMMARY:Nestlé Austria Schullauf Graz
DTSTART:20070502T230000Z
END:VEVENT
END:VCALENDAR
An internal server error occurred.