BEGIN:VCALENDAR
VERSION:2.0
PRODID:-//hacksw/handcal//NONSGML v1.0//EN
CALSCALE:GREGORIAN
BEGIN:VEVENT
DTEND:20070501T130000Z
UID:69e8122a647a5
DTSTAMP:20260422T011122Z
LOCATION:8605 Kapfenberg
DESCRIPTION:
URL;VALUE=URI:
SUMMARY:18. Int. KSV-ECE Stadtlauf Kapfenberg
DTSTART:20070430T230000Z
END:VEVENT
END:VCALENDAR
An internal server error occurred.