BEGIN:VCALENDAR
VERSION:2.0
PRODID:-//hacksw/handcal//NONSGML v1.0//EN
CALSCALE:GREGORIAN
BEGIN:VEVENT
DTEND:20070501T090000Z
UID:69e4d91ae387c
DTSTAMP:20260419T143106Z
LOCATION:2301 Grossenzersdorf
DESCRIPTION:
URL;VALUE=URI:
SUMMARY:6. Stadler-Lauf
DTSTART:20070430T230000Z
END:VEVENT
END:VCALENDAR
An internal server error occurred.