BEGIN:VCALENDAR
VERSION:2.0
PRODID:-//hacksw/handcal//NONSGML v1.0//EN
CALSCALE:GREGORIAN
BEGIN:VEVENT
DTEND:20070429T080000Z
UID:69e9885c466e6
DTSTAMP:20260423T034756Z
LOCATION:4222 Luftenberg-Statzing
DESCRIPTION:Im Startgeld ist ein Mittagessen und ein Gutschein von 8\,-Euro der Fa. Sport ÖHNER Linz enthalten
URL;VALUE=URI:
SUMMARY:15. Donauufer-Halbmarathon\, Luftenberg/Donau
DTSTART:20070428T230000Z
END:VEVENT
END:VCALENDAR
An internal server error occurred.