BEGIN:VCALENDAR
VERSION:2.0
PRODID:-//hacksw/handcal//NONSGML v1.0//EN
CALSCALE:GREGORIAN
BEGIN:VEVENT
DTEND:20070429T080000Z
UID:69e4f28a04390
DTSTAMP:20260419T161938Z
LOCATION:1220 Wien
DESCRIPTION:Staffelmarathon
URL;VALUE=URI:
SUMMARY:24. Vienna City Marathon
DTSTART:20070428T230000Z
END:VEVENT
END:VCALENDAR
An internal server error occurred.