BEGIN:VCALENDAR
VERSION:2.0
PRODID:-//hacksw/handcal//NONSGML v1.0//EN
CALSCALE:GREGORIAN
BEGIN:VEVENT
DTEND:20070708T090000Z
UID:69e81228807b7
DTSTAMP:20260422T011120Z
LOCATION:3203 Rabenstein/Pielach
DESCRIPTION:Berglauf\, HD 550m\,anschl.Kinderlauf
URL;VALUE=URI:
SUMMARY:6. Rabensteiner Geisbühellauf
DTSTART:20070707T230000Z
END:VEVENT
END:VCALENDAR
An internal server error occurred.