BEGIN:VCALENDAR
VERSION:2.0
PRODID:-//hacksw/handcal//NONSGML v1.0//EN
CALSCALE:GREGORIAN
BEGIN:VEVENT
DTEND:20070428T080000Z
UID:69e5066c75517
DTSTAMP:20260419T174428Z
LOCATION:9721 Weissenstein
DESCRIPTION:
URL;VALUE=URI:
SUMMARY:7. Draubodenlauf\, Weissenstein
DTSTART:20070427T230000Z
END:VEVENT
END:VCALENDAR
An internal server error occurred.