BEGIN:VCALENDAR
VERSION:2.0
PRODID:-//hacksw/handcal//NONSGML v1.0//EN
CALSCALE:GREGORIAN
BEGIN:VEVENT
DTEND:20070707T170000Z
UID:69e8eccac8093
DTSTAMP:20260422T164410Z
LOCATION:0 Penk
DESCRIPTION:
URL;VALUE=URI:
SUMMARY:3- Int. Penker Geländelauf
DTSTART:20070706T230000Z
END:VEVENT
END:VCALENDAR
An internal server error occurred.