BEGIN:VCALENDAR
VERSION:2.0
PRODID:-//hacksw/handcal//NONSGML v1.0//EN
CALSCALE:GREGORIAN
BEGIN:VEVENT
DTEND:20070701T171500Z
UID:69e7e3e096464
DTSTAMP:20260421T215352Z
LOCATION:8940 Liezen
DESCRIPTION:Hobby-Staffel-Lauf
URL;VALUE=URI:
SUMMARY:22. Liezener Stadtlauf
DTSTART:20070630T230000Z
END:VEVENT
END:VCALENDAR
An internal server error occurred.