BEGIN:VCALENDAR
VERSION:2.0
PRODID:-//hacksw/handcal//NONSGML v1.0//EN
CALSCALE:GREGORIAN
BEGIN:VEVENT
DTEND:20070630T230000Z
UID:69e7e3e4ae0db
DTSTAMP:20260421T215356Z
LOCATION:3345 Göstling/Ybbs
DESCRIPTION:
URL;VALUE=URI:
SUMMARY:23. Göstlinger Eisenstraßenlauf
DTSTART:20070630T230000Z
END:VEVENT
END:VCALENDAR
An internal server error occurred.