BEGIN:VCALENDAR
VERSION:2.0
PRODID:-//hacksw/handcal//NONSGML v1.0//EN
CALSCALE:GREGORIAN
BEGIN:VEVENT
DTEND:20070422T090000Z
UID:69e5105014542
DTSTAMP:20260419T182640Z
LOCATION:3140 Pottenbrunn
DESCRIPTION:
URL;VALUE=URI:
SUMMARY:20. Alfred-Vogel-Gedenklauf
DTSTART:20070421T230000Z
END:VEVENT
END:VCALENDAR
An internal server error occurred.