BEGIN:VCALENDAR
VERSION:2.0
PRODID:-//hacksw/handcal//NONSGML v1.0//EN
CALSCALE:GREGORIAN
BEGIN:VEVENT
DTEND:20070422T100000Z
UID:69e81220ab121
DTSTAMP:20260422T011112Z
LOCATION:1020 Wien
DESCRIPTION:Gedächtnislauf für einen verunglückten Kollegen\, heuer auch mit Teamwertung !
Spezielle Teampreise !
URL;VALUE=URI:
SUMMARY:10. Wiener Feuerwehrlauf
DTSTART:20070421T230000Z
END:VEVENT
END:VCALENDAR
An internal server error occurred.