BEGIN:VCALENDAR
VERSION:2.0
PRODID:-//hacksw/handcal//NONSGML v1.0//EN
CALSCALE:GREGORIAN
BEGIN:VEVENT
DTEND:20070421T150000Z
UID:69e5bb20a244c
DTSTAMP:20260420T063528Z
LOCATION:4650 Lambach
DESCRIPTION:
URL;VALUE=URI:
SUMMARY:6. Lambacher Traunuferlauf
DTSTART:20070420T230000Z
END:VEVENT
END:VCALENDAR
An internal server error occurred.