BEGIN:VCALENDAR
VERSION:2.0
PRODID:-//hacksw/handcal//NONSGML v1.0//EN
CALSCALE:GREGORIAN
BEGIN:VEVENT
DTEND:20070616T160000Z
UID:69e7419715cc8
DTSTAMP:20260421T102127Z
LOCATION:92334 Berching
DESCRIPTION:
URL;VALUE=URI:
SUMMARY:Jura 2000 Halbmarathon
DTSTART:20070615T230000Z
END:VEVENT
END:VCALENDAR
An internal server error occurred.