BEGIN:VCALENDAR
VERSION:2.0
PRODID:-//hacksw/handcal//NONSGML v1.0//EN
CALSCALE:GREGORIAN
BEGIN:VEVENT
DTEND:20070421T130000Z
UID:69e53338cd510
DTSTAMP:20260419T205536Z
LOCATION:2824 Seebenstein
DESCRIPTION:Gehört zur Hervis-Lauftour 2007
URL;VALUE=URI:
SUMMARY:25.Birnbauer Gedenklauf
DTSTART:20070420T230000Z
END:VEVENT
END:VCALENDAR
An internal server error occurred.