BEGIN:VCALENDAR
VERSION:2.0
PRODID:-//hacksw/handcal//NONSGML v1.0//EN
CALSCALE:GREGORIAN
BEGIN:VEVENT
DTEND:20070429T110000Z
UID:69e52aebdba55
DTSTAMP:20260419T202011Z
LOCATION:50678 Köln-Südstadt
DESCRIPTION:Umfangreiches Rahmenprogramm für Teilnehmer\, Angehörige und Zuschauer.
URL;VALUE=URI:
SUMMARY:23. Asics Dauerlauf im Severinsviertel
DTSTART:20070428T230000Z
END:VEVENT
END:VCALENDAR
An internal server error occurred.