BEGIN:VCALENDAR
VERSION:2.0
PRODID:-//hacksw/handcal//NONSGML v1.0//EN
CALSCALE:GREGORIAN
BEGIN:VEVENT
DTEND:20070616T080000Z
UID:69e720fc7a7c1
DTSTAMP:20260421T080220Z
LOCATION:9487 Bendern / Liechtenstein
DESCRIPTION:
URL;VALUE=URI:
SUMMARY:1. LGT Halbmarahton PLUS
DTSTART:20070615T230000Z
END:VEVENT
END:VCALENDAR
An internal server error occurred.