BEGIN:VCALENDAR
VERSION:2.0
PRODID:-//hacksw/handcal//NONSGML v1.0//EN
CALSCALE:GREGORIAN
BEGIN:VEVENT
DTEND:20070902T063000Z
UID:69e9107c8bb32
DTSTAMP:20260422T191628Z
LOCATION:50739 Köln
DESCRIPTION:
URL;VALUE=URI:
SUMMARY:Köln Triathlon
DTSTART:20070901T230000Z
END:VEVENT
END:VCALENDAR
An internal server error occurred.