BEGIN:VCALENDAR
VERSION:2.0
PRODID:-//hacksw/handcal//NONSGML v1.0//EN
CALSCALE:GREGORIAN
BEGIN:VEVENT
DTEND:20070616T140000Z
UID:69e7701927bdb
DTSTAMP:20260421T133953Z
LOCATION:95346 Stadtsteinach
DESCRIPTION:
URL;VALUE=URI:
SUMMARY:Steinachtallauf
DTSTART:20070615T230000Z
END:VEVENT
END:VCALENDAR
An internal server error occurred.