BEGIN:VCALENDAR
VERSION:2.0
PRODID:-//hacksw/handcal//NONSGML v1.0//EN
CALSCALE:GREGORIAN
BEGIN:VEVENT
DTEND:20070621T183000Z
UID:69e9ade275aa1
DTSTAMP:20260423T062802Z
LOCATION:8052 Graz - Center West
DESCRIPTION:Lauf allgemein 4\,5km
Nordic Walking 2\,5km

URL;VALUE=URI:
SUMMARY:7. Grazer Sparkassen Businesslauf
DTSTART:20070620T230000Z
END:VEVENT
END:VCALENDAR
An internal server error occurred.