BEGIN:VCALENDAR
VERSION:2.0
PRODID:-//hacksw/handcal//NONSGML v1.0//EN
CALSCALE:GREGORIAN
BEGIN:VEVENT
DTEND:20070630T170000Z
UID:69e8235f91ff7
DTSTAMP:20260422T022447Z
LOCATION:2225 Zistersdorf
DESCRIPTION:Alle Frauen erhalten beim Start ein 
Wellnesspaket. Anschließend Sonnenblumenfest. Nordic Walking über 8.000m (Finishermedaillien für alle Walker)
URL;VALUE=URI:
SUMMARY:Zistersdorfer Sonnenblumenlauf
DTSTART:20070629T230000Z
END:VEVENT
END:VCALENDAR
An internal server error occurred.